BEGIN:VCALENDAR
VERSION:2.0
PRODID:-//ChamberMaster//Event Calendar 2.0//EN
METHOD:PUBLISH
X-PUBLISHED-TTL:P3D
REFRESH-INTERVAL:P3D
CALSCALE:GREGORIAN
BEGIN:VEVENT
DTSTART:20130709T233000Z
DTEND:20130710T010000Z
X-MICROSOFT-CDO-ALLDAYEVENT:FALSE
SUMMARY:Hostess Meeting
DESCRIPTION:
X-ALT-DESC;FMTTYPE=text/html:
LOCATION:
UID:e.590.482
SEQUENCE:3
DTSTAMP:20260422T020521Z
URL:https://www.nparea.com/events/details/hostess-meeting-07-09-2013-482
END:VEVENT

END:VCALENDAR
