BEGIN:VCALENDAR
VERSION:2.0
PRODID:-//ChamberMaster//Event Calendar 2.0//EN
METHOD:PUBLISH
X-PUBLISHED-TTL:P3D
REFRESH-INTERVAL:P3D
CALSCALE:GREGORIAN
BEGIN:VEVENT
DTSTART:20141008T190000Z
DTEND:20141008T210000Z
X-MICROSOFT-CDO-ALLDAYEVENT:FALSE
SUMMARY:Hunan Moon Ribbon Cutting
DESCRIPTION:Ribbon Cutting & Grand Opening\n\nHunan Moon Chinese Restaurant\n\nSamples will be served!
X-ALT-DESC;FMTTYPE=text/html:<strong><span style="font-size: 14pt\;"><span style="font-family: times new roman\,serif\;">Ribbon Cutting &amp\; Grand Opening</span></span></strong><br />\n<strong><span style="font-size: 14pt\;"><span style="font-family: times new roman\,serif\;">Hunan Moon Chinese Restaurant</span></span></strong><br />\n<strong><span style="font-size: 14pt\;"><span style="font-family: times new roman\,serif\;">Samples will be served!</span></span></strong><br />\n&nbsp\;
LOCATION:1318 S Chestnut
UID:e.590.5912
SEQUENCE:3
DTSTAMP:20260420T235829Z
URL:https://www.nparea.com/events/details/hunan-moon-ribbon-cutting-10-08-2014-5912
END:VEVENT

END:VCALENDAR
