BEGIN:VCALENDAR
VERSION:2.0
PRODID:-//ChamberMaster//Event Calendar 2.0//EN
METHOD:PUBLISH
X-PUBLISHED-TTL:P3D
REFRESH-INTERVAL:P3D
CALSCALE:GREGORIAN
BEGIN:VEVENT
DTSTART:20150723T220000Z
DTEND:20150723T230000Z
X-MICROSOFT-CDO-ALLDAYEVENT:FALSE
SUMMARY:Huskeradio Ribbon Cutting
DESCRIPTION:Celebration of 85 years
X-ALT-DESC;FMTTYPE=text/html:Celebration of 85 years
LOCATION:Rivers Edge Cuisine
UID:e.590.7360
SEQUENCE:3
DTSTAMP:20260420T072216Z
URL:https://www.nparea.com/events/details/huskeradio-ribbon-cutting-07-23-2015-7360
END:VEVENT

END:VCALENDAR
