BEGIN:VCALENDAR
VERSION:2.0
PRODID:-//ChamberMaster//Event Calendar 2.0//EN
METHOD:PUBLISH
X-PUBLISHED-TTL:P3D
REFRESH-INTERVAL:P3D
CALSCALE:GREGORIAN
BEGIN:VEVENT
DTSTART:20140405T134500Z
DTEND:20140405T140000Z
X-MICROSOFT-CDO-ALLDAYEVENT:FALSE
SUMMARY:Lincoln County CASA Super Hero 5K & Kids Fun Run
DESCRIPTION:Iron Horse Lake next to the Veteran's Memorial south of I80.
X-ALT-DESC;FMTTYPE=text/html:<h4>\n	<span style="font-size:12px\;"><span style="font-family:arial\;">Iron Horse Lake next to the Veteran&rsquo\;s&nbsp\;</span></span><span style="font-family: arial\;">Memorial south of </span>I80<span style="font-family: arial\;">.</span></h4>\n<br />\n<span style="font-size:12px\;"><span style="font-family:arial\;">&nbsp\;</span></span><br />\n
LOCATION:
UID:e.590.5890
SEQUENCE:3
DTSTAMP:20260421T101326Z
URL:https://www.nparea.com/events/details/lincoln-county-casa-super-hero-5k-kids-fun-run-04-05-2014-5890
END:VEVENT

END:VCALENDAR
