BEGIN:VCALENDAR
VERSION:2.0
PRODID:-//ChamberMaster//Event Calendar 2.0//EN
METHOD:PUBLISH
X-PUBLISHED-TTL:P3D
REFRESH-INTERVAL:P3D
CALSCALE:GREGORIAN
BEGIN:VEVENT
DTSTART:20150815T153000Z
DTEND:20150815T170000Z
X-MICROSOFT-CDO-ALLDAYEVENT:FALSE
SUMMARY:Maxwell Parade
DESCRIPTION:Maxwell Parade\n\nSaturday\, August 15\, 2015 \n\nAmbassador/Hostess Line-up at 9:30am\n\nParade Starts at 10:30am
X-ALT-DESC;FMTTYPE=text/html:Maxwell Parade<br />\nSaturday\, August 15\, 2015&nbsp\;<br />\nAmbassador/Hostess Line-up at 9:30am<br />\nParade Starts at 10:30am
LOCATION:Maxwell Nebraska
UID:e.590.7368
SEQUENCE:3
DTSTAMP:20260420T051209Z
URL:https://www.nparea.com/events/details/maxwell-parade-08-15-2015-7368
END:VEVENT

END:VCALENDAR
