BEGIN:VCALENDAR
VERSION:2.0
PRODID:-//ChamberMaster//Event Calendar 2.0//EN
METHOD:PUBLISH
X-PUBLISHED-TTL:P3D
REFRESH-INTERVAL:P3D
CALSCALE:GREGORIAN
BEGIN:VEVENT
DTSTART:20151016T170000Z
DTEND:20151016T180000Z
X-MICROSOFT-CDO-ALLDAYEVENT:FALSE
SUMMARY:Mr. Appliance RC & GO
DESCRIPTION:Ribbon Cutting & Greand Opening
X-ALT-DESC;FMTTYPE=text/html:Ribbon Cutting &amp\; Greand&nbsp\;Opening
LOCATION:105 N. Jeffers
UID:e.590.7389
SEQUENCE:3
DTSTAMP:20260420T010030Z
URL:https://www.nparea.com/events/details/mr-appliance-rc-go-10-16-2015-7389
END:VEVENT

END:VCALENDAR
