BEGIN:VCALENDAR
VERSION:2.0
PRODID:-//ChamberMaster//Event Calendar 2.0//EN
METHOD:PUBLISH
X-PUBLISHED-TTL:P3D
REFRESH-INTERVAL:P3D
CALSCALE:GREGORIAN
BEGIN:VEVENT
DTSTART:20150717T220000Z
DTEND:20150718T000000Z
X-MICROSOFT-CDO-ALLDAYEVENT:FALSE
SUMMARY:NebraskaLand National Bank
DESCRIPTION:Business After Hours\n\nFriday July 17th\n\nNebraskaLand National Bank\n\n1400 South Dewey\n\nPO Box 829\n\nNorth Platte\, NE 69101\n\n(308) 534-2100
X-ALT-DESC;FMTTYPE=text/html:Business After Hours<br />\nFriday July 17th<br />\nNebraskaLand National Bank<br />\n1400 South Dewey<br />\nPO Box 829<br />\nNorth Platte\, NE 69101<br />\n(308) 534-2100
LOCATION:
UID:e.590.7190
SEQUENCE:3
DTSTAMP:20260420T072630Z
URL:https://www.nparea.com/events/details/nebraskaland-national-bank-07-17-2015-7190
END:VEVENT

END:VCALENDAR
