BEGIN:VCALENDAR
VERSION:2.0
PRODID:-//ChamberMaster//Event Calendar 2.0//EN
METHOD:PUBLISH
X-PUBLISHED-TTL:P3D
REFRESH-INTERVAL:P3D
CALSCALE:GREGORIAN
BEGIN:VEVENT
DTSTART:20130807T143000Z
DTEND:20130807T153000Z
X-MICROSOFT-CDO-ALLDAYEVENT:FALSE
SUMMARY:North Platte Workforce Meeting
DESCRIPTION:The North Platte Area Chamber & Development Corp. will be partnering with the Department of Labor and North Platte Community College to host a discussion on the future of North Platte's workforce.
X-ALT-DESC;FMTTYPE=text/html:The North Platte Area Chamber &amp\; Development Corp. will be partnering with the Department of Labor and North Platte Community College to host a discussion on the future of North Platte&#39\;s workforce.&nbsp\;
LOCATION:North Platte Community College - North Campus Room 203
UID:e.590.5274
SEQUENCE:3
DTSTAMP:20260422T003652Z
URL:https://www.nparea.com/events/details/north-platte-workforce-meeting-08-07-2013-5274
END:VEVENT

END:VCALENDAR
