BEGIN:VCALENDAR
VERSION:2.0
PRODID:-//ChamberMaster//Event Calendar 2.0//EN
METHOD:PUBLISH
X-PUBLISHED-TTL:P3D
REFRESH-INTERVAL:P3D
CALSCALE:GREGORIAN
BEGIN:VEVENT
DTSTART:20150723T200000Z
DTEND:20150724T000000Z
X-MICROSOFT-CDO-ALLDAYEVENT:FALSE
SUMMARY:Open House Edward Jones / Yoko Lawing
DESCRIPTION:Open House
X-ALT-DESC;FMTTYPE=text/html:Open House
LOCATION:603 S. Jeffers St.
UID:e.590.7362
SEQUENCE:3
DTSTAMP:20260420T072937Z
URL:https://www.nparea.com/events/details/open-house-edward-jones-yoko-lawing-07-23-2015-7362
END:VEVENT

END:VCALENDAR
