BEGIN:VCALENDAR
VERSION:2.0
PRODID:-//ChamberMaster//Event Calendar 2.0//EN
METHOD:PUBLISH
X-PUBLISHED-TTL:P3D
REFRESH-INTERVAL:P3D
CALSCALE:GREGORIAN
BEGIN:VEVENT
DTSTART:20131219T233000Z
DTEND:20131220T000000Z
X-MICROSOFT-CDO-ALLDAYEVENT:FALSE
SUMMARY:Prairie Arts Center - Ribbon Cutting/Grand Opening
DESCRIPTION:Ribbon Cutting at 5:30 pm. Grand Opening from 5:00-8:00 pm. Refreshments will be served: hot spiced cider\, wine & cheese. \n\n	 \n\n	Volunteers will also be selling (100) limited edition Prairie Arts Center Christmas ornaments for $20/each.
X-ALT-DESC;FMTTYPE=text/html:<div>\n	Ribbon Cutting at 5:30 pm. Grand Opening from 5:00-8:00 pm. Refreshments will be served: hot spiced cider\, wine &amp\; cheese.&nbsp\;</div>\n<div>\n	&nbsp\;</div>\n<div>\n	Volunteers will also be selling (100) limited edition Prairie Arts Center Christmas ornaments for $20/each.</div>\n
LOCATION:Prairie Arts Center 416 North Jeffers Street North Platte\, NE 69101
UID:e.590.5855
SEQUENCE:3
DTSTAMP:20260421T192317Z
URL:https://www.nparea.com/events/details/prairie-arts-center-ribbon-cutting-grand-opening-12-19-2013-5855
END:VEVENT

END:VCALENDAR
