BEGIN:VCALENDAR
VERSION:2.0
PRODID:-//ChamberMaster//Event Calendar 2.0//EN
METHOD:PUBLISH
X-PUBLISHED-TTL:P3D
REFRESH-INTERVAL:P3D
CALSCALE:GREGORIAN
BEGIN:VEVENT
DTSTART:20151016T220000Z
DTEND:20151017T000000Z
X-MICROSOFT-CDO-ALLDAYEVENT:FALSE
SUMMARY:Quality Inn & Wells Fargo Bank
DESCRIPTION:Business After Hours\n\nFriday October 16th\n\n5:00-7:00pm\n\nQuality Inn & Suites
X-ALT-DESC;FMTTYPE=text/html:Business After Hours<br />\nFriday October 16th<br />\n5:00-7:00pm<br />\nQuality Inn &amp\; Suites<br />\n<br />\n&nbsp\;
LOCATION:2102 S Jeffers St North Platte\, NE 69101 (308) 532-9090
UID:e.590.7192
SEQUENCE:3
DTSTAMP:20260420T034305Z
URL:https://www.nparea.com/events/details/quality-inn-wells-fargo-bank-10-16-2015-7192
END:VEVENT

END:VCALENDAR
