BEGIN:VCALENDAR
VERSION:2.0
PRODID:-//ChamberMaster//Event Calendar 2.0//EN
METHOD:PUBLISH
X-PUBLISHED-TTL:P3D
REFRESH-INTERVAL:P3D
CALSCALE:GREGORIAN
BEGIN:VEVENT
DTSTART:20150918T210000Z
DTEND:20150918T220000Z
X-MICROSOFT-CDO-ALLDAYEVENT:FALSE
SUMMARY:Railfest 2015 Opening Ceremony
DESCRIPTION:
X-ALT-DESC;FMTTYPE=text/html:
LOCATION:Cody Park
UID:e.590.7382
SEQUENCE:3
DTSTAMP:20260420T033712Z
URL:https://www.nparea.com/events/details/railfest-2015-opening-ceremony-09-18-2015-7382
END:VEVENT

END:VCALENDAR
