BEGIN:VCALENDAR
VERSION:2.0
PRODID:-//ChamberMaster//Event Calendar 2.0//EN
METHOD:PUBLISH
X-PUBLISHED-TTL:P3D
REFRESH-INTERVAL:P3D
CALSCALE:GREGORIAN
BEGIN:VEVENT
DTSTART:20140205T144500Z
DTEND:20140205T150000Z
X-MICROSOFT-CDO-ALLDAYEVENT:FALSE
SUMMARY:RC & GO Ag Expo
DESCRIPTION:23rd Annual Buffalo Bill Farm & Ranch Expo\n\n	Rope Cutting\n\n	Wednesday\, February 5\, 2014\n\n	8:45am\n\n	D & N Event Center
X-ALT-DESC;FMTTYPE=text/html:<div style="text-align: center\;">\n	<span style="font-family: times new roman\;"><span style="font-size: 14px\;">23rd Annual Buffalo Bill Farm &amp\; Ranch Expo<br />\n	Rope Cutting<br />\n	Wednesday\, February 5\, 2014<br />\n	8:45am<br />\n	D &amp\; N Event Center</span></span></div>\n
LOCATION:
UID:e.590.5870
SEQUENCE:3
DTSTAMP:20260421T134239Z
URL:https://www.nparea.com/events/details/rc-go-ag-expo-02-05-2014-5870
END:VEVENT

END:VCALENDAR
