BEGIN:VCALENDAR
VERSION:2.0
PRODID:-//ChamberMaster//Event Calendar 2.0//EN
METHOD:PUBLISH
X-PUBLISHED-TTL:P3D
REFRESH-INTERVAL:P3D
CALSCALE:GREGORIAN
BEGIN:VEVENT
DTSTART:20130516T200000Z
DTEND:20130517T000000Z
X-MICROSOFT-CDO-ALLDAYEVENT:FALSE
SUMMARY:RC & GO ALLO
DESCRIPTION:Ribbon Cutting & Grand Opening\n\nALLO\n\nRibbon Cutting & Grand Opening at 4pm\n\nLocal Store Grand Opening 3pm - 7pm
X-ALT-DESC;FMTTYPE=text/html:Ribbon Cutting &amp\; Grand Opening<br />\nALLO<br />\nRibbon Cutting &amp\; Grand Opening at 4pm<br />\nLocal Store Grand Opening 3pm - 7pm
LOCATION:
UID:e.590.5027
SEQUENCE:3
DTSTAMP:20260422T064344Z
URL:https://www.nparea.com/events/details/rc-go-allo-05-16-2013-5027
END:VEVENT

END:VCALENDAR
