BEGIN:VCALENDAR
VERSION:2.0
PRODID:-//ChamberMaster//Event Calendar 2.0//EN
METHOD:PUBLISH
X-PUBLISHED-TTL:P3D
REFRESH-INTERVAL:P3D
CALSCALE:GREGORIAN
BEGIN:VEVENT
DTSTART:20150522T210000Z
DTEND:20150522T220000Z
X-MICROSOFT-CDO-ALLDAYEVENT:FALSE
SUMMARY:RC & GO for Homestead Country Store
DESCRIPTION:GO & RC\n\nHomestead Country Store\n\n6459 Homestead Rd\n\n(Driving directions:  west on Walker Rd to Homestead Rd. turn south 2 miles (cross State Farm Rd).  Brown house with green roof.  Homestead & Power Rd.   GPS says Homestead and Rowley Rd)
X-ALT-DESC;FMTTYPE=text/html:<span style="font-family:times new roman\,serif\;">GO &amp\; RC</span><br />\n<span style="font-family:times new roman\,serif\;">Homestead Country Store</span><br />\n<span style="font-family:times new roman\,serif\;">6459 Homestead Rd</span><br />\n<span style="font-family:times new roman\,serif\;">(Driving directions:&nbsp\; west on Walker Rd to Homestead Rd. turn south 2 miles (cross State Farm Rd).&nbsp\; Brown house with green roof.&nbsp\; Homestead &amp\; Power Rd.&nbsp\;&nbsp\; GPS says Homestead and Rowley Rd)</span>
LOCATION:
UID:e.590.7204
SEQUENCE:3
DTSTAMP:20260420T125502Z
URL:https://www.nparea.com/events/details/rc-go-for-homestead-country-store-05-22-2015-7204
END:VEVENT

END:VCALENDAR
