BEGIN:VCALENDAR
VERSION:2.0
PRODID:-//ChamberMaster//Event Calendar 2.0//EN
METHOD:PUBLISH
X-PUBLISHED-TTL:P3D
REFRESH-INTERVAL:P3D
CALSCALE:GREGORIAN
BEGIN:VEVENT
DTSTART:20140131T160000Z
DTEND:20140131T170000Z
X-MICROSOFT-CDO-ALLDAYEVENT:FALSE
SUMMARY:RC & GO Luigis Italian Restaurant
DESCRIPTION:Ribbon Cutting & Grand Opening\n\nLuigi's Italian Restaurant\n\n10am on Friday\, January 31\, 2014\n\n502 S Jeffers St
X-ALT-DESC;FMTTYPE=text/html:Ribbon Cutting &amp\; Grand Opening<br />\nLuigi&#39\;s Italian Restaurant<br />\n10am on Friday\, January 31\, 2014<br />\n502 S Jeffers St<br />\n<br type="_moz" />\n
LOCATION:
UID:e.590.5888
SEQUENCE:3
DTSTAMP:20260421T172437Z
URL:https://www.nparea.com/events/details/rc-go-luigis-italian-restaurant-01-31-2014-5888
END:VEVENT

END:VCALENDAR
