BEGIN:VCALENDAR
VERSION:2.0
PRODID:-//ChamberMaster//Event Calendar 2.0//EN
METHOD:PUBLISH
X-PUBLISHED-TTL:P3D
REFRESH-INTERVAL:P3D
CALSCALE:GREGORIAN
BEGIN:VEVENT
DTSTART:20140128T220000Z
DTEND:20140128T230000Z
X-MICROSOFT-CDO-ALLDAYEVENT:FALSE
SUMMARY:Ribbon Cutting & Grand Opening - Greater Nebraska Dermatology
DESCRIPTION:Ribbon Cutting & Grand Opening\n\nGreater Nebraska Dermatology\n\n2509 Halligan Drive Ste E\n\n4pm
X-ALT-DESC;FMTTYPE=text/html:Ribbon Cutting &amp\; Grand Opening<br />\nGreater Nebraska Dermatology<br />\n2509 Halligan Drive Ste E<br />\n4pm
LOCATION:
UID:e.590.5868
SEQUENCE:3
DTSTAMP:20260421T154716Z
URL:https://www.nparea.com/events/details/ribbon-cutting-grand-opening-greater-nebraska-dermatology-01-28-2014-5868
END:VEVENT

END:VCALENDAR
