BEGIN:VCALENDAR
VERSION:2.0
PRODID:-//ChamberMaster//Event Calendar 2.0//EN
METHOD:PUBLISH
X-PUBLISHED-TTL:P3D
REFRESH-INTERVAL:P3D
CALSCALE:GREGORIAN
BEGIN:VEVENT
DTSTART;VALUE=DATE:20140410
DTEND;VALUE=DATE:20140411
TRANSP:TRANSPARENT
X-MICROSOFT-CDO-ALLDAYEVENT:TRUE
SUMMARY:Ribbon Cutting & Grand Opening - Safelite
DESCRIPTION:Ribbon Cutting & Grand Opening\n\nSafelite\n\nThursday\, April 10\, 2014\n\n11:30am\n\n809 N Jeffers St
X-ALT-DESC;FMTTYPE=text/html:Ribbon Cutting &amp\; Grand Opening<br />\nSafelite<br />\nThursday\, April 10\, 2014<br />\n11:30am<br />\n809 N Jeffers St
LOCATION:
UID:e.590.5893
SEQUENCE:3
DTSTAMP:20260421T101148Z
URL:https://www.nparea.com/events/details/ribbon-cutting-grand-opening-safelite-04-10-2014-5893
END:VEVENT

END:VCALENDAR
