BEGIN:VCALENDAR
VERSION:2.0
PRODID:-//ChamberMaster//Event Calendar 2.0//EN
METHOD:PUBLISH
X-PUBLISHED-TTL:P3D
REFRESH-INTERVAL:P3D
CALSCALE:GREGORIAN
BEGIN:VEVENT
DTSTART:20151029T164500Z
DTEND:20151029T173000Z
X-MICROSOFT-CDO-ALLDAYEVENT:FALSE
SUMMARY:Ribbon Cutting -NP Trails
DESCRIPTION:North Platte Trails Ribbon Cutting
X-ALT-DESC;FMTTYPE=text/html:North Platte&nbsp\;Trails Ribbon Cutting<br />\n&nbsp\;
LOCATION:
UID:e.590.7392
SEQUENCE:3
DTSTAMP:20260420T005959Z
URL:https://www.nparea.com/events/details/ribbon-cutting-np-trails-10-29-2015-7392
END:VEVENT

END:VCALENDAR
