BEGIN:VCALENDAR
VERSION:2.0
PRODID:-//ChamberMaster//Event Calendar 2.0//EN
METHOD:PUBLISH
X-PUBLISHED-TTL:P3D
REFRESH-INTERVAL:P3D
CALSCALE:GREGORIAN
BEGIN:VEVENT
DTSTART:20151203T180000Z
DTEND:20151203T220000Z
X-MICROSOFT-CDO-ALLDAYEVENT:FALSE
SUMMARY:Ribbon Cutting - Revamped Vintage
DESCRIPTION:Grand Opening & Ribbon Cutting\n\nRevamped Vintage\n\n506 N Dewey St\n\nThursday\, December 3\, 2015\n\nRibbon Cutting at Noon\n\nGrand Opening Noon - 4pm
X-ALT-DESC;FMTTYPE=text/html:Grand Opening &amp\; Ribbon Cutting<br />\nRevamped Vintage<br />\n506 N Dewey St<br />\nThursday\, December 3\, 2015<br />\nRibbon Cutting at Noon<br />\nGrand Opening Noon - 4pm<br />\n&nbsp\;
LOCATION:
UID:e.590.7525
SEQUENCE:3
DTSTAMP:20260419T210942Z
URL:https://www.nparea.com/events/details/ribbon-cutting-revamped-vintage-12-03-2015-7525
END:VEVENT

END:VCALENDAR
