BEGIN:VCALENDAR
VERSION:2.0
PRODID:-//ChamberMaster//Event Calendar 2.0//EN
METHOD:PUBLISH
X-PUBLISHED-TTL:P3D
REFRESH-INTERVAL:P3D
CALSCALE:GREGORIAN
BEGIN:VEVENT
DTSTART:20160131T174500Z
DTEND:20160131T180000Z
X-MICROSOFT-CDO-ALLDAYEVENT:FALSE
SUMMARY:Ribbon Cutting - Super Bride Sunday
DESCRIPTION:Super Bride Sunday\n\nJanuary 31\, 2016\n\nQuality Inn & Suites/Sandhills Convention Center\n\nRibbon Cutting - 11:45am\n\n12:00 - 4pm       Fashion show begins at 3pm
X-ALT-DESC;FMTTYPE=text/html:Super Bride Sunday<br />\nJanuary 31\, 2016<br />\nQuality Inn &amp\; Suites/Sandhills Convention Center<br />\nRibbon Cutting - 11:45am<br />\n12:00 - 4pm&nbsp\;&nbsp\;&nbsp\;&nbsp\; &nbsp\; Fashion show begins at 3pm
LOCATION:
UID:e.590.8032
SEQUENCE:3
DTSTAMP:20260419T205036Z
URL:https://www.nparea.com/events/details/ribbon-cutting-super-bride-sunday-01-31-2016-8032
END:VEVENT

END:VCALENDAR
