BEGIN:VCALENDAR
VERSION:2.0
PRODID:-//ChamberMaster//Event Calendar 2.0//EN
METHOD:PUBLISH
X-PUBLISHED-TTL:P3D
REFRESH-INTERVAL:P3D
CALSCALE:GREGORIAN
BEGIN:VEVENT
DTSTART:20150204T144500Z
DTEND:20150204T150000Z
X-MICROSOFT-CDO-ALLDAYEVENT:FALSE
SUMMARY:Rope Cutting & Grand Opening - Farm & Ranch Expo
DESCRIPTION:Rope Cutting & Grand Opening\n\nBuffalo Bill Farm & Ranch Expo\n\nWednesday\, February 4\, 2015\n\n8:45 am \n\nD & N Center - S Hwy 83 & Walker Road
X-ALT-DESC;FMTTYPE=text/html:Rope Cutting &amp\; Grand Opening<br />\nBuffalo Bill Farm &amp\; Ranch Expo<br />\nWednesday\, February 4\, 2015<br />\n8:45 am&nbsp\;<br />\nD &amp\; N Center - S Hwy 83 &amp\; Walker Road
LOCATION:
UID:e.590.5923
SEQUENCE:3
DTSTAMP:20260420T163427Z
URL:https://www.nparea.com/events/details/rope-cutting-grand-opening-farm-ranch-expo-02-04-2015-5923
END:VEVENT

END:VCALENDAR
