BEGIN:VCALENDAR
VERSION:2.0
PRODID:-//ChamberMaster//Event Calendar 2.0//EN
METHOD:PUBLISH
X-PUBLISHED-TTL:P3D
REFRESH-INTERVAL:P3D
CALSCALE:GREGORIAN
BEGIN:VEVENT
DTSTART:20131113T173000Z
DTEND:20131113T190000Z
X-MICROSOFT-CDO-ALLDAYEVENT:FALSE
SUMMARY:SBA Lunch & Learn
DESCRIPTION:The U.S. Small Business Administration will be hosting a luncheon presentation to highlight SBA services available to
X-ALT-DESC;FMTTYPE=text/html:The U.S. Small Business Administration will be hosting a luncheon presentation to highlight SBA services available to 
LOCATION:North Platte Chamber & Development Board Room
UID:e.590.5438
SEQUENCE:3
DTSTAMP:20260421T190628Z
URL:https://www.nparea.com/events/details/sba-lunch-learn-11-13-2013-5438
END:VEVENT

END:VCALENDAR
