BEGIN:VCALENDAR
VERSION:2.0
PRODID:-//ChamberMaster//Event Calendar 2.0//EN
METHOD:PUBLISH
X-PUBLISHED-TTL:P3D
REFRESH-INTERVAL:P3D
CALSCALE:GREGORIAN
BEGIN:VEVENT
DTSTART:20121111T200000Z
DTEND:20121111T210000Z
X-MICROSOFT-CDO-ALLDAYEVENT:FALSE
SUMMARY:Veterans Parade
DESCRIPTION:Annual Veterans Parade\n\nParade starts at 2pm.
X-ALT-DESC;FMTTYPE=text/html:Annual Veterans Parade<br />\nParade starts at 2pm.
LOCATION:
UID:e.590.4132
SEQUENCE:3
DTSTAMP:20260422T143841Z
URL:https://www.nparea.com/events/details/veterans-parade-11-11-2012-4132
END:VEVENT

END:VCALENDAR
