BEGIN:VCALENDAR
VERSION:2.0
PRODID:-//ChamberMaster//Event Calendar 2.0//EN
METHOD:PUBLISH
X-PUBLISHED-TTL:P3D
REFRESH-INTERVAL:P3D
CALSCALE:GREGORIAN
BEGIN:VEVENT
DTSTART:20140815T160000Z
DTEND:20140815T170000Z
X-MICROSOFT-CDO-ALLDAYEVENT:FALSE
SUMMARY:Wild Bills Wings & Bowing Ribbon Cutting
DESCRIPTION:Wild Bill's Wings & Bowling \n\nRIBBON CUTTING is TODAY (FRI AUG 15) at 11AM.  Celebrate With North Platte's Newest Sports & Entertainment Grill.  WB's will be an Alcohol Free Establishiment for 1 month. Serving 25 Wing Sauces and Seasonings and a Full Menu.
X-ALT-DESC;FMTTYPE=text/html:<span style="font-size:14px\;"><span style="font-family:arial\;"><span style="color:#C00000\;">Wild Bill&rsquo\;s Wings &amp\; Bowling </span><br />\n<strong><span style="color:#FFC000\;">RIBBON CUTTING is TODAY (FRI AUG 15) at 11AM.&nbsp\; </span></strong>Celebrate With North Platte&#39\;s Newest Sports &amp\; Entertainment Grill.&nbsp\; <span style="color:#C00000\;">WB&rsquo\;s</span> will be an Alcohol Free Establishiment for 1 month. Serving 25 Wing Sauces and Seasonings and a Full Menu.</span></span>
LOCATION:
UID:e.590.5909
SEQUENCE:3
DTSTAMP:20260421T034633Z
URL:https://www.nparea.com/events/details/wild-bills-wings-bowing-ribbon-cutting-08-15-2014-5909
END:VEVENT

END:VCALENDAR
